BEGIN:VCALENDAR
VERSION:2.0
PRODID:-//The Beaumont Inn - ECPv6.15.17//NONSGML v1.0//EN
CALSCALE:GREGORIAN
METHOD:PUBLISH
X-ORIGINAL-URL:https://thebeaumontinn.com
X-WR-CALDESC:Events for The Beaumont Inn
REFRESH-INTERVAL;VALUE=DURATION:PT1H
X-Robots-Tag:noindex
X-PUBLISHED-TTL:PT1H
BEGIN:VTIMEZONE
TZID:America/New_York
BEGIN:DAYLIGHT
TZOFFSETFROM:-0500
TZOFFSETTO:-0400
TZNAME:EDT
DTSTART:20220313T070000
END:DAYLIGHT
BEGIN:STANDARD
TZOFFSETFROM:-0400
TZOFFSETTO:-0500
TZNAME:EST
DTSTART:20221106T060000
END:STANDARD
BEGIN:DAYLIGHT
TZOFFSETFROM:-0500
TZOFFSETTO:-0400
TZNAME:EDT
DTSTART:20230312T070000
END:DAYLIGHT
BEGIN:STANDARD
TZOFFSETFROM:-0400
TZOFFSETTO:-0500
TZNAME:EST
DTSTART:20231105T060000
END:STANDARD
BEGIN:DAYLIGHT
TZOFFSETFROM:-0500
TZOFFSETTO:-0400
TZNAME:EDT
DTSTART:20240310T070000
END:DAYLIGHT
BEGIN:STANDARD
TZOFFSETFROM:-0400
TZOFFSETTO:-0500
TZNAME:EST
DTSTART:20241103T060000
END:STANDARD
END:VTIMEZONE
BEGIN:VEVENT
DTSTART;TZID=America/New_York:20231224T160000
DTEND;TZID=America/New_York:20231224T210000
DTSTAMP:20260425T060630
CREATED:20230917T140444Z
LAST-MODIFIED:20230917T140444Z
UID:10034-1703433600-1703451600@thebeaumontinn.com
SUMMARY:Christmas Eve
DESCRIPTION:
URL:https://thebeaumontinn.com/events/christmas-eve/
LOCATION:The Beaumont Inn\, 4437 PA-309\, Dallas\, PA\, 18612\, United States
END:VEVENT
BEGIN:VEVENT
DTSTART;TZID=America/New_York:20231231T160000
DTEND;TZID=America/New_York:20231231T210000
DTSTAMP:20260425T060630
CREATED:20230917T141005Z
LAST-MODIFIED:20230917T142815Z
UID:10035-1704038400-1704056400@thebeaumontinn.com
SUMMARY:New Years Eve
DESCRIPTION:
URL:https://thebeaumontinn.com/events/new-years-eve/
LOCATION:The Beaumont Inn\, 4437 PA-309\, Dallas\, PA\, 18612\, United States
END:VEVENT
END:VCALENDAR